BEGIN:VCALENDAR
VERSION:2.0
PRODID:-//Town of Greenfield - ECPv6.15.17.1//NONSGML v1.0//EN
CALSCALE:GREGORIAN
METHOD:PUBLISH
X-WR-CALNAME:Town of Greenfield
X-ORIGINAL-URL:https://greenfieldsaukwi.org
X-WR-CALDESC:Events for Town of Greenfield
REFRESH-INTERVAL;VALUE=DURATION:PT1H
X-Robots-Tag:noindex
X-PUBLISHED-TTL:PT1H
BEGIN:VTIMEZONE
TZID:America/Chicago
BEGIN:DAYLIGHT
TZOFFSETFROM:-0600
TZOFFSETTO:-0500
TZNAME:CDT
DTSTART:20180311T080000
END:DAYLIGHT
BEGIN:STANDARD
TZOFFSETFROM:-0500
TZOFFSETTO:-0600
TZNAME:CST
DTSTART:20181104T070000
END:STANDARD
BEGIN:DAYLIGHT
TZOFFSETFROM:-0600
TZOFFSETTO:-0500
TZNAME:CDT
DTSTART:20190310T080000
END:DAYLIGHT
BEGIN:STANDARD
TZOFFSETFROM:-0500
TZOFFSETTO:-0600
TZNAME:CST
DTSTART:20191103T070000
END:STANDARD
BEGIN:DAYLIGHT
TZOFFSETFROM:-0600
TZOFFSETTO:-0500
TZNAME:CDT
DTSTART:20200308T080000
END:DAYLIGHT
BEGIN:STANDARD
TZOFFSETFROM:-0500
TZOFFSETTO:-0600
TZNAME:CST
DTSTART:20201101T070000
END:STANDARD
BEGIN:DAYLIGHT
TZOFFSETFROM:-0600
TZOFFSETTO:-0500
TZNAME:CDT
DTSTART:20210314T080000
END:DAYLIGHT
BEGIN:STANDARD
TZOFFSETFROM:-0500
TZOFFSETTO:-0600
TZNAME:CST
DTSTART:20211107T070000
END:STANDARD
BEGIN:DAYLIGHT
TZOFFSETFROM:-0600
TZOFFSETTO:-0500
TZNAME:CDT
DTSTART:20220313T080000
END:DAYLIGHT
BEGIN:STANDARD
TZOFFSETFROM:-0500
TZOFFSETTO:-0600
TZNAME:CST
DTSTART:20221106T070000
END:STANDARD
BEGIN:DAYLIGHT
TZOFFSETFROM:-0600
TZOFFSETTO:-0500
TZNAME:CDT
DTSTART:20230312T080000
END:DAYLIGHT
BEGIN:STANDARD
TZOFFSETFROM:-0500
TZOFFSETTO:-0600
TZNAME:CST
DTSTART:20231105T070000
END:STANDARD
BEGIN:DAYLIGHT
TZOFFSETFROM:-0600
TZOFFSETTO:-0500
TZNAME:CDT
DTSTART:20240310T080000
END:DAYLIGHT
BEGIN:STANDARD
TZOFFSETFROM:-0500
TZOFFSETTO:-0600
TZNAME:CST
DTSTART:20241103T070000
END:STANDARD
BEGIN:DAYLIGHT
TZOFFSETFROM:-0600
TZOFFSETTO:-0500
TZNAME:CDT
DTSTART:20250309T080000
END:DAYLIGHT
BEGIN:STANDARD
TZOFFSETFROM:-0500
TZOFFSETTO:-0600
TZNAME:CST
DTSTART:20251102T070000
END:STANDARD
BEGIN:DAYLIGHT
TZOFFSETFROM:-0600
TZOFFSETTO:-0500
TZNAME:CDT
DTSTART:20260308T080000
END:DAYLIGHT
BEGIN:STANDARD
TZOFFSETFROM:-0500
TZOFFSETTO:-0600
TZNAME:CST
DTSTART:20261101T070000
END:STANDARD
END:VTIMEZONE
BEGIN:VEVENT
DTSTART;TZID=America/Chicago:20250807T170000
DTEND;TZID=America/Chicago:20250807T170000
DTSTAMP:20260419T072436
CREATED:20250805T145505Z
LAST-MODIFIED:20250811T231450Z
UID:10000931-1754586000-1754586000@greenfieldsaukwi.org
SUMMARY:Open Book
DESCRIPTION:The Town of Greenfield Open Book will be held on Thursday\, August 6 from 5 to 7 p.m. See information: \nNotice of Meeting of Board of Review \nSTATE OF WISCONSINTown of Greenfield \nSauk County \nNotice is hereby given that the Board of Review for the Town of Greenfield\, Sauk County\, Wisconsin\, will convene at the Greenfield Town Hall on Thursday\, August 13. 2025 from 5 to 7 p.m. \nPlease be advised of the following requirements to appear before the board of review and procedural requirements if appearing before the board: \n\nNo person will be allowed to appear before the board of review\, to testify to the board by telephone\, or to contest the amount of any assessment of real or personal property if the person has refused a reasonable written request by certified mail of the assessor to view the property.\nAfter the first meeting of the board of review and before the board’s final adjournment\, no person who is scheduled to appear before the board of review may contact or provide information to a member of the board about the person’s objection\, except at a session of the board.\nThe board of review may not hear an objection to the amount or valuation of property unless\, at least 48 hours before the board’s first scheduled meeting\, the objector provides to the board’s clerk written or oral notice of an intent to file an objection\, except that upon a showing of good cause and the submission of a written objection\, the board shall waive that requirement during the first 2 hours of the board’s scheduled meeting\, and the board may waive that requirement up to the end of the 5th day of the session or up to the end of the final day of the session if the session is less than 5 days with proof of extraordinary circumstances for failure to meet the 48-hour notice requirement and failure to appear before the board of review during the first 2 hours of the scheduled meeting.\nObjections to the amount or valuation of property shall first be made in writing and filed with the clerk of the board of review within the first 2 hours of the board’s scheduled meeting\, except that\, upon evidence of extraordinary circumstances\, the board may waive that requirement up to the end of the 5th day of the session or up to the end of the final day of the session if the session is less than 5 days. The board may require objections to the amount or valuation of property to be submitted on forms approved by the Department of Revenue\, and the board shall require that any forms include stated valuations of the property in question. Persons who own land and improvements to that land may object to the aggregate valuation of that land and improvements to that land\, but no person who owns land and improvements to that land may object only to the valuation of that land or only to the valuation of improvements to that land. No person may be allowed in any action or proceedings to question the amount or valuation of property unless the written objection has been filed and that person in good faith presented evidence to the board in support of the objections and made full disclosure before the board\, under oath\, of all of that person’s property liable to assessment in the district and the value of that property. The requirement that objections be in writing may be waived by express action of the board.\nWhen appearing before the board of review\, the objecting person shall specify in writing the person’s estimate of the value of the land and of the improvements that are the subject of the person’s objection and specify the information that the person used to arrive at that estimate.\nNo person may appear before the board of review\, testify to the board by telephone\, or object to a valuation if that valuation was made by the assessor or the objector using the income method of valuation\, unless the person supplies the assessor with all the information about income and expenses\, as specified in the assessor’s manual under s.73.03 (2a)\, Wis. stats.\, that the assessor requests. The Town of Greenfield has an ordinance for the confidentiality of information about income and expenses that is provided to the assessor under this paragraph that provides exceptions for persons using information in the discharge of duties imposed by law or the duties of their officer or by order of a court.* The information that is provided under this paragraph\, unless a court determined that it is inaccurate\, is not subject to the right of inspection and copying under s. 19.35 (1)\, Wis. stats.\nThe board shall hear upon oath\, by telephone\, all ill or disabled persons who present to the board a letter from a physician\, surgeon\, or osteopath that confirms their illness or disability. No other persons may testify by telephone.\nNo person may appear before the board of review\, testify to the board by telephone\, or contest the amount of any assessment unless\, at least 48 hours before the first meeting of the board\, or at least 48 hours before the objection is heard if the objection is allowed under s.70.47 (3) (a)\, Wis. stats.\, that person provides to the clerk of the board of review notice as to whether the person will ask for the removal of a member of the board of review and\, if so\, which member\, and provides a reasonable estimate of the length of time the hearing will take.\n\nFor further information go to the following web page link: https://www.revenue.wi.gov/faqs/slf/bor.html. \n  \nMary Friesen
URL:https://greenfieldsaukwi.org/event/open-book-5/
CATEGORIES:Meeting of the Electors
END:VEVENT
BEGIN:VEVENT
DTSTART;TZID=America/Chicago:20241112T190000
DTEND;TZID=America/Chicago:20241112T191000
DTSTAMP:20260419T072436
CREATED:20241103T202302Z
LAST-MODIFIED:20241103T202302Z
UID:10000910-1731438000-1731438600@greenfieldsaukwi.org
SUMMARY:2025 Budget Hearing & Meeting
DESCRIPTION:
URL:https://greenfieldsaukwi.org/event/2025-budget-hearing-meeting/
CATEGORIES:Meeting of the Electors
END:VEVENT
BEGIN:VEVENT
DTSTART;TZID=America/Chicago:20231114T190000
DTEND;TZID=America/Chicago:20231114T191500
DTSTAMP:20260419T072436
CREATED:20231113T014901Z
LAST-MODIFIED:20231113T014901Z
UID:10000787-1699988400-1699989300@greenfieldsaukwi.org
SUMMARY:2024 Budget Hearing and Meeting of the Electors
DESCRIPTION:
URL:https://greenfieldsaukwi.org/event/2024-budget-hearing-and-meeting-of-the-electors/
CATEGORIES:Meeting of the Electors
END:VEVENT
BEGIN:VEVENT
DTSTART;TZID=America/Chicago:20230422T133000
DTEND;TZID=America/Chicago:20230422T150000
DTSTAMP:20260419T072436
CREATED:20230416T174458Z
LAST-MODIFIED:20230416T174458Z
UID:10000739-1682170200-1682175600@greenfieldsaukwi.org
SUMMARY:Annual Meeting of the Electors
DESCRIPTION:TOWN OF GREENFIELD \nANNUAL TOWN MEETING \n1:30 p.m.\, Saturday\, April 22\, 2023 \nGreenfield Town Hall \n  \nCall to Order by Chair Terry Turnquist \nDistribute Minutes of 2022 Annual Meeting and approval \nDistribute 2022 Financial Report and approval \nInitial comments by the chair \nOverview of road conditions with future road projects \nOpen discussion of issues and motions by residents \n  \nMary Friesen\, Town Clerk \n  \n  \n 
URL:https://greenfieldsaukwi.org/event/annual-meeting-of-the-electors/
CATEGORIES:Meeting of the Electors
END:VEVENT
BEGIN:VEVENT
DTSTART;TZID=America/Chicago:20211014T180000
DTEND;TZID=America/Chicago:20211014T200000
DTSTAMP:20260419T072436
CREATED:20211004T025820Z
LAST-MODIFIED:20211004T025820Z
UID:10000626-1634234400-1634241600@greenfieldsaukwi.org
SUMMARY:Board of Review
DESCRIPTION:
URL:https://greenfieldsaukwi.org/event/board-of-review-4/
CATEGORIES:Meeting of the Electors
END:VEVENT
BEGIN:VEVENT
DTSTART;TZID=America/Chicago:20211007T120000
DTEND;TZID=America/Chicago:20211007T140000
DTSTAMP:20260419T072436
CREATED:20211004T025729Z
LAST-MODIFIED:20211004T025729Z
UID:10000625-1633608000-1633615200@greenfieldsaukwi.org
SUMMARY:Open Book
DESCRIPTION:
URL:https://greenfieldsaukwi.org/event/open-book-2/
LOCATION:Greenfield Town Hall
CATEGORIES:Meeting of the Electors
END:VEVENT
BEGIN:VEVENT
DTSTART;TZID=America/Chicago:20210424T133000
DTEND;TZID=America/Chicago:20210424T170000
DTSTAMP:20260419T072436
CREATED:20210419T025105Z
LAST-MODIFIED:20210419T025105Z
UID:10000619-1619271000-1619283600@greenfieldsaukwi.org
SUMMARY:Annual Town Meeting
DESCRIPTION:Join Zoom Meeting https://us02web.zoom.us/j/5118664707 \nor phone: 1-312-626-6799 \n 
URL:https://greenfieldsaukwi.org/event/annual-town-meeting/
LOCATION:ZOOM — https://us02web.zoom.us/j/5118664707
CATEGORIES:Meeting of the Electors
END:VEVENT
BEGIN:VEVENT
DTSTART;TZID=America/Chicago:20201110T190000
DTEND;TZID=America/Chicago:20201110T193000
DTSTAMP:20260419T072436
CREATED:20201024T002931Z
LAST-MODIFIED:20201024T002931Z
UID:10000599-1605034800-1605036600@greenfieldsaukwi.org
SUMMARY:2021 Budget Hearing of the Electors
DESCRIPTION:BUDGET HEARING & \nSPECIAL TOWN MEETING \nOF THE ELECTORS OF \nTHE TOWN OF GREENFIELD \n7:00 p.m.\, Tuesday\, Nov. 10\, 2020 \nZOOM meeting due to COVID-19 \nNotice is hereby given that at 7 p.m. on Tuesday\, November 10\, 2020\, at the Greenfield Town Hall\, there will be a Public Hearing immediately followed by a Special Town Meeting of the Electors called pursuant to Sec. 60.12(I)(c) of the Wisconsin Statutes by the Town Board for the following purposes: \nTo approve the total year 2021 Highway Expenditures pursuant to Section 81.01(3) of Wis. Statutes. Proposed amount is $258\,000. \nTo adopt a Town Tax Levy to be paid in 2021 pursuant to Section 60.10(1)(a) of Wis. Statutes. Proposed amount is $257\,083. \nDated this 27th day of October 2020 \nMary Friesen \nTown Clerk
URL:https://greenfieldsaukwi.org/event/2021-budget-hearing-of-the-electors/
CATEGORIES:Meeting of the Electors
END:VEVENT
BEGIN:VEVENT
DTSTART;TZID=America/Chicago:20200509T133000
DTEND;TZID=America/Chicago:20200509T143000
DTSTAMP:20260419T072436
CREATED:20200507T142414Z
LAST-MODIFIED:20200507T142621Z
UID:10000594-1589031000-1589034600@greenfieldsaukwi.org
SUMMARY:2020 Town of Greenfield Annual Meeting
DESCRIPTION:Join Zoom Meeting: \nhttps://us02web.zoom.us/j/5118664707 \nor To Join by Phone\, Dial \n1 253 215 8782 \nOr \n1 312 626 6799 \n Meeting ID: 511 866 4707
URL:https://greenfieldsaukwi.org/event/2020-town-of-greenfield-annual-meeting/
CATEGORIES:Meeting of the Electors
END:VEVENT
BEGIN:VEVENT
DTSTART;TZID=America/Chicago:20190731T190000
DTEND;TZID=America/Chicago:20190731T200000
DTSTAMP:20260419T072436
CREATED:20190718T150800Z
LAST-MODIFIED:20190718T150800Z
UID:10000593-1564599600-1564603200@greenfieldsaukwi.org
SUMMARY:Special Meeting of the Electors
DESCRIPTION:Consider Town purchase of private road in Sleepy Hollow subdivision
URL:https://greenfieldsaukwi.org/event/special-meeting-of-the-electors/
CATEGORIES:Meeting of the Electors
END:VEVENT
BEGIN:VEVENT
DTSTART;TZID=America/Chicago:20190724T180000
DTEND;TZID=America/Chicago:20190724T200000
DTSTAMP:20260419T072436
CREATED:20190718T150623Z
LAST-MODIFIED:20190718T150623Z
UID:10000592-1563991200-1563998400@greenfieldsaukwi.org
SUMMARY:Board of Review
DESCRIPTION:
URL:https://greenfieldsaukwi.org/event/board-of-review-3/
CATEGORIES:Meeting of the Electors
END:VEVENT
BEGIN:VEVENT
DTSTART;TZID=America/Chicago:20190413T133000
DTEND;TZID=America/Chicago:20190413T143000
DTSTAMP:20260419T072436
CREATED:20190323T152509Z
LAST-MODIFIED:20190323T152509Z
UID:10000590-1555162200-1555165800@greenfieldsaukwi.org
SUMMARY:Annual Meeting
DESCRIPTION:
URL:https://greenfieldsaukwi.org/event/annual-meeting-3/
LOCATION:Greenfield Town Hall
CATEGORIES:Meeting of the Electors
END:VEVENT
END:VCALENDAR