BEGIN:VCALENDAR
VERSION:2.0
PRODID:-//Town of Greenfield - ECPv6.15.17.1//NONSGML v1.0//EN
CALSCALE:GREGORIAN
METHOD:PUBLISH
X-WR-CALNAME:Town of Greenfield
X-ORIGINAL-URL:https://greenfieldsaukwi.org
X-WR-CALDESC:Events for Town of Greenfield
REFRESH-INTERVAL;VALUE=DURATION:PT1H
X-Robots-Tag:noindex
X-PUBLISHED-TTL:PT1H
BEGIN:VTIMEZONE
TZID:America/Chicago
BEGIN:DAYLIGHT
TZOFFSETFROM:-0600
TZOFFSETTO:-0500
TZNAME:CDT
DTSTART:20220313T080000
END:DAYLIGHT
BEGIN:STANDARD
TZOFFSETFROM:-0500
TZOFFSETTO:-0600
TZNAME:CST
DTSTART:20221106T070000
END:STANDARD
BEGIN:DAYLIGHT
TZOFFSETFROM:-0600
TZOFFSETTO:-0500
TZNAME:CDT
DTSTART:20230312T080000
END:DAYLIGHT
BEGIN:STANDARD
TZOFFSETFROM:-0500
TZOFFSETTO:-0600
TZNAME:CST
DTSTART:20231105T070000
END:STANDARD
BEGIN:DAYLIGHT
TZOFFSETFROM:-0600
TZOFFSETTO:-0500
TZNAME:CDT
DTSTART:20240310T080000
END:DAYLIGHT
BEGIN:STANDARD
TZOFFSETFROM:-0500
TZOFFSETTO:-0600
TZNAME:CST
DTSTART:20241103T070000
END:STANDARD
END:VTIMEZONE
BEGIN:VEVENT
DTSTART;TZID=America/Chicago:20230110T190000
DTEND;TZID=America/Chicago:20230110T200000
DTSTAMP:20260422T155529
CREATED:20220104T023559Z
LAST-MODIFIED:20220104T023559Z
UID:10000655-1673377200-1673380800@greenfieldsaukwi.org
SUMMARY:Town Board Meeting
DESCRIPTION:
URL:https://greenfieldsaukwi.org/event/town-board-meeting-6/2023-01-10/
LOCATION:Greenfield Town Hall
CATEGORIES:Town Board
END:VEVENT
BEGIN:VEVENT
DTSTART;TZID=America/Chicago:20230116T083742
DTEND;TZID=America/Chicago:20230116T083742
DTSTAMP:20260422T155529
CREATED:20150117T193000Z
LAST-MODIFIED:20150117T193000Z
UID:10000156-1673858262-1673858262@greenfieldsaukwi.org
SUMMARY:Spring Caucus
DESCRIPTION:Citizens will elect candidates for the April Election for the following: Chair\, Supervisor 1\, Supervisor 2\, Treasurer\, and Clerk
URL:https://greenfieldsaukwi.org/event/spring-caucus-2/
CATEGORIES:Town Board
END:VEVENT
BEGIN:VEVENT
DTSTART;TZID=America/Chicago:20230116T083744
DTEND;TZID=America/Chicago:20230116T083744
DTSTAMP:20260422T155529
CREATED:20160809T000000Z
LAST-MODIFIED:20160809T000000Z
UID:10000206-1673858264-1673858264@greenfieldsaukwi.org
SUMMARY:Town Board Meeting
DESCRIPTION:Note: Meeting moved due to Election
URL:https://greenfieldsaukwi.org/event/town-board-meeting/
CATEGORIES:Town Board
END:VEVENT
BEGIN:VEVENT
DTSTART;TZID=America/Chicago:20230116T083745
DTEND;TZID=America/Chicago:20230116T083745
DTSTAMP:20260422T155529
CREATED:20180328T210459Z
LAST-MODIFIED:20180328T210459Z
UID:10000554-1673858265-1673858265@greenfieldsaukwi.org
SUMMARY:Annual Meeting
DESCRIPTION:Among items to be discussed will be the 2017 Financial Report. \nResidents are encouraged to bring their questions and concerns about our Greenfield Town government.
URL:https://greenfieldsaukwi.org/event/annual-meeting/
CATEGORIES:Town Board
END:VEVENT
END:VCALENDAR