BEGIN:VCALENDAR
VERSION:2.0
PRODID:-//Town of Greenfield - ECPv6.15.17.1//NONSGML v1.0//EN
CALSCALE:GREGORIAN
METHOD:PUBLISH
X-WR-CALNAME:Town of Greenfield
X-ORIGINAL-URL:https://greenfieldsaukwi.org
X-WR-CALDESC:Events for Town of Greenfield
REFRESH-INTERVAL;VALUE=DURATION:PT1H
X-Robots-Tag:noindex
X-PUBLISHED-TTL:PT1H
BEGIN:VTIMEZONE
TZID:America/Chicago
BEGIN:DAYLIGHT
TZOFFSETFROM:-0600
TZOFFSETTO:-0500
TZNAME:CDT
DTSTART:20220313T080000
END:DAYLIGHT
BEGIN:STANDARD
TZOFFSETFROM:-0500
TZOFFSETTO:-0600
TZNAME:CST
DTSTART:20221106T070000
END:STANDARD
BEGIN:DAYLIGHT
TZOFFSETFROM:-0600
TZOFFSETTO:-0500
TZNAME:CDT
DTSTART:20230312T080000
END:DAYLIGHT
BEGIN:STANDARD
TZOFFSETFROM:-0500
TZOFFSETTO:-0600
TZNAME:CST
DTSTART:20231105T070000
END:STANDARD
BEGIN:DAYLIGHT
TZOFFSETFROM:-0600
TZOFFSETTO:-0500
TZNAME:CDT
DTSTART:20240310T080000
END:DAYLIGHT
BEGIN:STANDARD
TZOFFSETFROM:-0500
TZOFFSETTO:-0600
TZNAME:CST
DTSTART:20241103T070000
END:STANDARD
END:VTIMEZONE
BEGIN:VEVENT
DTSTART;TZID=America/Chicago:20230214T190000
DTEND;TZID=America/Chicago:20230214T200000
DTSTAMP:20260422T142038
CREATED:20230215T220600Z
LAST-MODIFIED:20230215T222129Z
UID:10000685-1676401200-1676404800@greenfieldsaukwi.org
SUMMARY:Town Board Meeting\, 7 p.m. February 14
DESCRIPTION:
URL:https://greenfieldsaukwi.org/event/town-board-meeting-7-p-m-february-14/
CATEGORIES:Town Board
ATTACH;FMTTYPE=application/pdf:https://cdn.townweb.com/greenfieldsaukwi.org/wp-content/uploads/2023/02/February-2023-1.pdf
END:VEVENT
END:VCALENDAR