BEGIN:VCALENDAR
VERSION:2.0
PRODID:-//Town of Greenfield - ECPv6.15.17.1//NONSGML v1.0//EN
CALSCALE:GREGORIAN
METHOD:PUBLISH
X-WR-CALNAME:Town of Greenfield
X-ORIGINAL-URL:https://greenfieldsaukwi.org
X-WR-CALDESC:Events for Town of Greenfield
REFRESH-INTERVAL;VALUE=DURATION:PT1H
X-Robots-Tag:noindex
X-PUBLISHED-TTL:PT1H
BEGIN:VTIMEZONE
TZID:America/Chicago
BEGIN:DAYLIGHT
TZOFFSETFROM:-0600
TZOFFSETTO:-0500
TZNAME:CDT
DTSTART:20220313T080000
END:DAYLIGHT
BEGIN:STANDARD
TZOFFSETFROM:-0500
TZOFFSETTO:-0600
TZNAME:CST
DTSTART:20221106T070000
END:STANDARD
BEGIN:DAYLIGHT
TZOFFSETFROM:-0600
TZOFFSETTO:-0500
TZNAME:CDT
DTSTART:20230312T080000
END:DAYLIGHT
BEGIN:STANDARD
TZOFFSETFROM:-0500
TZOFFSETTO:-0600
TZNAME:CST
DTSTART:20231105T070000
END:STANDARD
BEGIN:DAYLIGHT
TZOFFSETFROM:-0600
TZOFFSETTO:-0500
TZNAME:CDT
DTSTART:20240310T080000
END:DAYLIGHT
BEGIN:STANDARD
TZOFFSETFROM:-0500
TZOFFSETTO:-0600
TZNAME:CST
DTSTART:20241103T070000
END:STANDARD
BEGIN:DAYLIGHT
TZOFFSETFROM:-0600
TZOFFSETTO:-0500
TZNAME:CDT
DTSTART:20250309T080000
END:DAYLIGHT
BEGIN:STANDARD
TZOFFSETFROM:-0500
TZOFFSETTO:-0600
TZNAME:CST
DTSTART:20251102T070000
END:STANDARD
BEGIN:DAYLIGHT
TZOFFSETFROM:-0600
TZOFFSETTO:-0500
TZNAME:CDT
DTSTART:20260308T080000
END:DAYLIGHT
BEGIN:STANDARD
TZOFFSETFROM:-0500
TZOFFSETTO:-0600
TZNAME:CST
DTSTART:20261101T070000
END:STANDARD
END:VTIMEZONE
BEGIN:VEVENT
DTSTART;TZID=America/Chicago:20230912T190000
DTEND;TZID=America/Chicago:20230912T200000
DTSTAMP:20260423T001156
CREATED:20230909T024228Z
LAST-MODIFIED:20230909T024228Z
UID:10000766-1694545200-1694548800@greenfieldsaukwi.org
SUMMARY:September Town Board Meeting
DESCRIPTION:
URL:https://greenfieldsaukwi.org/event/september-town-board-meeting/
CATEGORIES:Town Board
END:VEVENT
BEGIN:VEVENT
DTSTART;TZID=America/Chicago:20240724T170000
DTEND;TZID=America/Chicago:20240724T190000
DTSTAMP:20260423T001156
CREATED:20240619T005402Z
LAST-MODIFIED:20240619T005402Z
UID:10000903-1721840400-1721847600@greenfieldsaukwi.org
SUMMARY:Open Book
DESCRIPTION:Open Book – For questions on your property assessments\, please contact our Assessor: \nBod Madvig \nHolloway Appraisal Service \nPO Box 456 \nBlack River Falls\, WI 54615\n \nOffice – 608.374.4207\n \nhollowayappraisal@gmail.com
URL:https://greenfieldsaukwi.org/event/open-book-4/
CATEGORIES:Town Board
END:VEVENT
BEGIN:VEVENT
DTSTART;TZID=America/Chicago:20241112T191000
DTEND;TZID=America/Chicago:20241112T200000
DTSTAMP:20260423T001156
CREATED:20241103T201841Z
LAST-MODIFIED:20241103T201841Z
UID:10000906-1731438600-1731441600@greenfieldsaukwi.org
SUMMARY:Town Board Meeting
DESCRIPTION:Please click the following link for: Agendas & Minutes – Town of Greenfield (greenfieldsaukwi.org)
URL:https://greenfieldsaukwi.org/event/town-board-meeting-7/
CATEGORIES:Town Board
END:VEVENT
BEGIN:VEVENT
DTSTART;TZID=America/Chicago:20250811T170000
DTEND;TZID=America/Chicago:20250813T190000
DTSTAMP:20260423T001156
CREATED:20250811T231334Z
LAST-MODIFIED:20250811T231528Z
UID:10000934-1754931600-1755111600@greenfieldsaukwi.org
SUMMARY:2025 Board of Review
DESCRIPTION:THE TOWN OF GREENFIELD \nBOARD OF REVIEW \n5 to 7 p.m.\, Wednesday\, August 13 \nAt the Greenfield Town Hall \n 
URL:https://greenfieldsaukwi.org/event/2025-board-of-review/
CATEGORIES:Town Board
END:VEVENT
BEGIN:VEVENT
DTSTART;TZID=America/Chicago:20250813T170000
DTEND;TZID=America/Chicago:20250813T190000
DTSTAMP:20260423T001156
CREATED:20250811T231334Z
LAST-MODIFIED:20250811T231528Z
UID:10000935-1755104400-1755111600@greenfieldsaukwi.org
SUMMARY:2025 Board of Review
DESCRIPTION:THE TOWN OF GREENFIELD \nBOARD OF REVIEW \n5 to 7 p.m.\, Wednesday\, August 13 \nAt the Greenfield Town Hall \n 
URL:https://greenfieldsaukwi.org/event/2025-board-of-review/
CATEGORIES:Town Board
END:VEVENT
END:VCALENDAR