BEGIN:VCALENDAR
VERSION:2.0
PRODID:-//Town of Greenfield - ECPv6.15.17.1//NONSGML v1.0//EN
CALSCALE:GREGORIAN
METHOD:PUBLISH
X-WR-CALNAME:Town of Greenfield
X-ORIGINAL-URL:https://greenfieldsaukwi.org
X-WR-CALDESC:Events for Town of Greenfield
REFRESH-INTERVAL;VALUE=DURATION:PT1H
X-Robots-Tag:noindex
X-PUBLISHED-TTL:PT1H
BEGIN:VTIMEZONE
TZID:America/Chicago
BEGIN:DAYLIGHT
TZOFFSETFROM:-0600
TZOFFSETTO:-0500
TZNAME:CDT
DTSTART:20150308T080000
END:DAYLIGHT
BEGIN:STANDARD
TZOFFSETFROM:-0500
TZOFFSETTO:-0600
TZNAME:CST
DTSTART:20151101T070000
END:STANDARD
BEGIN:DAYLIGHT
TZOFFSETFROM:-0600
TZOFFSETTO:-0500
TZNAME:CDT
DTSTART:20160313T080000
END:DAYLIGHT
BEGIN:STANDARD
TZOFFSETFROM:-0500
TZOFFSETTO:-0600
TZNAME:CST
DTSTART:20161106T070000
END:STANDARD
BEGIN:DAYLIGHT
TZOFFSETFROM:-0600
TZOFFSETTO:-0500
TZNAME:CDT
DTSTART:20170312T080000
END:DAYLIGHT
BEGIN:STANDARD
TZOFFSETFROM:-0500
TZOFFSETTO:-0600
TZNAME:CST
DTSTART:20171105T070000
END:STANDARD
BEGIN:DAYLIGHT
TZOFFSETFROM:-0600
TZOFFSETTO:-0500
TZNAME:CDT
DTSTART:20180311T080000
END:DAYLIGHT
BEGIN:STANDARD
TZOFFSETFROM:-0500
TZOFFSETTO:-0600
TZNAME:CST
DTSTART:20181104T070000
END:STANDARD
BEGIN:DAYLIGHT
TZOFFSETFROM:-0600
TZOFFSETTO:-0500
TZNAME:CDT
DTSTART:20190310T080000
END:DAYLIGHT
BEGIN:STANDARD
TZOFFSETFROM:-0500
TZOFFSETTO:-0600
TZNAME:CST
DTSTART:20191103T070000
END:STANDARD
BEGIN:DAYLIGHT
TZOFFSETFROM:-0600
TZOFFSETTO:-0500
TZNAME:CDT
DTSTART:20200308T080000
END:DAYLIGHT
BEGIN:STANDARD
TZOFFSETFROM:-0500
TZOFFSETTO:-0600
TZNAME:CST
DTSTART:20201101T070000
END:STANDARD
BEGIN:DAYLIGHT
TZOFFSETFROM:-0600
TZOFFSETTO:-0500
TZNAME:CDT
DTSTART:20210314T080000
END:DAYLIGHT
BEGIN:STANDARD
TZOFFSETFROM:-0500
TZOFFSETTO:-0600
TZNAME:CST
DTSTART:20211107T070000
END:STANDARD
BEGIN:DAYLIGHT
TZOFFSETFROM:-0600
TZOFFSETTO:-0500
TZNAME:CDT
DTSTART:20220313T080000
END:DAYLIGHT
BEGIN:STANDARD
TZOFFSETFROM:-0500
TZOFFSETTO:-0600
TZNAME:CST
DTSTART:20221106T070000
END:STANDARD
END:VTIMEZONE
BEGIN:VEVENT
DTSTART;TZID=America/Chicago:20210112T190000
DTEND;TZID=America/Chicago:20210112T200000
DTSTAMP:20260420T123437
CREATED:20201108T193956Z
LAST-MODIFIED:20201108T193956Z
UID:10000601-1610478000-1610481600@greenfieldsaukwi.org
SUMMARY:Town Board Meeting
DESCRIPTION:
URL:https://greenfieldsaukwi.org/event/town-board-meeting-5/2021-01-12/
CATEGORIES:Town Board
END:VEVENT
BEGIN:VEVENT
DTSTART;TZID=America/Chicago:20201210T080000
DTEND;TZID=America/Chicago:20201210T190000
DTSTAMP:20260420T123437
CREATED:20201209T212411Z
LAST-MODIFIED:20201209T212411Z
UID:10000615-1607587200-1607626800@greenfieldsaukwi.org
SUMMARY:December 10 Town Board Meeting
DESCRIPTION:
URL:https://greenfieldsaukwi.org/event/december-10-town-board-meeting/
CATEGORIES:Town Board
END:VEVENT
BEGIN:VEVENT
DTSTART;TZID=America/Chicago:20201208T190000
DTEND;TZID=America/Chicago:20201208T200000
DTSTAMP:20260420T123437
CREATED:20181217T174147Z
LAST-MODIFIED:20200803T024143Z
UID:10000588-1607454000-1607457600@greenfieldsaukwi.org
SUMMARY:Town Board Meeting
DESCRIPTION:
URL:https://greenfieldsaukwi.org/event/town-board-meeting-4-2020-12-08/
CATEGORIES:Town Board
END:VEVENT
BEGIN:VEVENT
DTSTART;TZID=America/Chicago:20201110T190000
DTEND;TZID=America/Chicago:20201110T200000
DTSTAMP:20260420T123437
CREATED:20181217T174147Z
LAST-MODIFIED:20181217T174805Z
UID:10000587-1605034800-1605038400@greenfieldsaukwi.org
SUMMARY:Town Board Meeting
DESCRIPTION:
URL:https://greenfieldsaukwi.org/event/town-board-meeting-4/2020-11-10/
CATEGORIES:Town Board
END:VEVENT
BEGIN:VEVENT
DTSTART;TZID=America/Chicago:20201013T190000
DTEND;TZID=America/Chicago:20201013T200000
DTSTAMP:20260420T123437
CREATED:20181217T174147Z
LAST-MODIFIED:20181217T174805Z
UID:10000586-1602615600-1602619200@greenfieldsaukwi.org
SUMMARY:Town Board Meeting
DESCRIPTION:
URL:https://greenfieldsaukwi.org/event/town-board-meeting-4/2020-10-13/
CATEGORIES:Town Board
END:VEVENT
BEGIN:VEVENT
DTSTART;TZID=America/Chicago:20200908T190000
DTEND;TZID=America/Chicago:20200908T200000
DTSTAMP:20260420T123437
CREATED:20181217T174147Z
LAST-MODIFIED:20181217T174805Z
UID:10000585-1599591600-1599595200@greenfieldsaukwi.org
SUMMARY:Town Board Meeting
DESCRIPTION:
URL:https://greenfieldsaukwi.org/event/town-board-meeting-4/2020-09-08/
CATEGORIES:Town Board
END:VEVENT
BEGIN:VEVENT
DTSTART;TZID=America/Chicago:20200811T190000
DTEND;TZID=America/Chicago:20200811T200000
DTSTAMP:20260420T123437
CREATED:20181217T174147Z
LAST-MODIFIED:20181217T174805Z
UID:10000584-1597172400-1597176000@greenfieldsaukwi.org
SUMMARY:Town Board Meeting
DESCRIPTION:
URL:https://greenfieldsaukwi.org/event/town-board-meeting-4/2020-08-11/
CATEGORIES:Town Board
END:VEVENT
BEGIN:VEVENT
DTSTART;TZID=America/Chicago:20200714T190000
DTEND;TZID=America/Chicago:20200714T200000
DTSTAMP:20260420T123437
CREATED:20181217T174147Z
LAST-MODIFIED:20181217T174805Z
UID:10000583-1594753200-1594756800@greenfieldsaukwi.org
SUMMARY:Town Board Meeting
DESCRIPTION:
URL:https://greenfieldsaukwi.org/event/town-board-meeting-4/2020-07-14/
CATEGORIES:Town Board
END:VEVENT
BEGIN:VEVENT
DTSTART;TZID=America/Chicago:20200609T190000
DTEND;TZID=America/Chicago:20200609T200000
DTSTAMP:20260420T123437
CREATED:20181217T174147Z
LAST-MODIFIED:20181217T174805Z
UID:10000582-1591729200-1591732800@greenfieldsaukwi.org
SUMMARY:Town Board Meeting
DESCRIPTION:
URL:https://greenfieldsaukwi.org/event/town-board-meeting-4/2020-06-09/
CATEGORIES:Town Board
END:VEVENT
BEGIN:VEVENT
DTSTART;TZID=America/Chicago:20200512T190000
DTEND;TZID=America/Chicago:20200512T200000
DTSTAMP:20260420T123437
CREATED:20181217T174147Z
LAST-MODIFIED:20181217T174805Z
UID:10000581-1589310000-1589313600@greenfieldsaukwi.org
SUMMARY:Town Board Meeting
DESCRIPTION:
URL:https://greenfieldsaukwi.org/event/town-board-meeting-4/2020-05-12/
CATEGORIES:Town Board
END:VEVENT
BEGIN:VEVENT
DTSTART;TZID=America/Chicago:20200414T190000
DTEND;TZID=America/Chicago:20200414T200000
DTSTAMP:20260420T123437
CREATED:20181217T174147Z
LAST-MODIFIED:20181217T174805Z
UID:10000580-1586890800-1586894400@greenfieldsaukwi.org
SUMMARY:Town Board Meeting
DESCRIPTION:
URL:https://greenfieldsaukwi.org/event/town-board-meeting-4/2020-04-14/
CATEGORIES:Town Board
END:VEVENT
BEGIN:VEVENT
DTSTART;TZID=America/Chicago:20200310T190000
DTEND;TZID=America/Chicago:20200310T200000
DTSTAMP:20260420T123437
CREATED:20181217T174147Z
LAST-MODIFIED:20181217T174805Z
UID:10000579-1583866800-1583870400@greenfieldsaukwi.org
SUMMARY:Town Board Meeting
DESCRIPTION:
URL:https://greenfieldsaukwi.org/event/town-board-meeting-4/2020-03-10/
CATEGORIES:Town Board
END:VEVENT
BEGIN:VEVENT
DTSTART;TZID=America/Chicago:20200211T190000
DTEND;TZID=America/Chicago:20200211T200000
DTSTAMP:20260420T123437
CREATED:20181217T174147Z
LAST-MODIFIED:20181217T174805Z
UID:10000578-1581447600-1581451200@greenfieldsaukwi.org
SUMMARY:Town Board Meeting
DESCRIPTION:
URL:https://greenfieldsaukwi.org/event/town-board-meeting-4/2020-02-11/
CATEGORIES:Town Board
END:VEVENT
BEGIN:VEVENT
DTSTART;TZID=America/Chicago:20200114T190000
DTEND;TZID=America/Chicago:20200114T200000
DTSTAMP:20260420T123437
CREATED:20181217T174147Z
LAST-MODIFIED:20181217T174805Z
UID:10000577-1579028400-1579032000@greenfieldsaukwi.org
SUMMARY:Town Board Meeting
DESCRIPTION:
URL:https://greenfieldsaukwi.org/event/town-board-meeting-4/2020-01-14/
CATEGORIES:Town Board
END:VEVENT
BEGIN:VEVENT
DTSTART;TZID=America/Chicago:20191210T190000
DTEND;TZID=America/Chicago:20191210T200000
DTSTAMP:20260420T123437
CREATED:20181217T174147Z
LAST-MODIFIED:20181217T174805Z
UID:10000576-1576004400-1576008000@greenfieldsaukwi.org
SUMMARY:Town Board Meeting
DESCRIPTION:
URL:https://greenfieldsaukwi.org/event/town-board-meeting-4/2019-12-10/
CATEGORIES:Town Board
END:VEVENT
BEGIN:VEVENT
DTSTART;TZID=America/Chicago:20191112T190000
DTEND;TZID=America/Chicago:20191112T200000
DTSTAMP:20260420T123437
CREATED:20181217T174147Z
LAST-MODIFIED:20181217T174805Z
UID:10000575-1573585200-1573588800@greenfieldsaukwi.org
SUMMARY:Town Board Meeting
DESCRIPTION:
URL:https://greenfieldsaukwi.org/event/town-board-meeting-4/2019-11-12/
CATEGORIES:Town Board
END:VEVENT
BEGIN:VEVENT
DTSTART;TZID=America/Chicago:20191008T190000
DTEND;TZID=America/Chicago:20191008T200000
DTSTAMP:20260420T123437
CREATED:20181217T174147Z
LAST-MODIFIED:20181217T174805Z
UID:10000574-1570561200-1570564800@greenfieldsaukwi.org
SUMMARY:Town Board Meeting
DESCRIPTION:
URL:https://greenfieldsaukwi.org/event/town-board-meeting-4/2019-10-08/
CATEGORIES:Town Board
END:VEVENT
BEGIN:VEVENT
DTSTART;TZID=America/Chicago:20190910T190000
DTEND;TZID=America/Chicago:20190910T200000
DTSTAMP:20260420T123437
CREATED:20181217T174147Z
LAST-MODIFIED:20181217T174805Z
UID:10000573-1568142000-1568145600@greenfieldsaukwi.org
SUMMARY:Town Board Meeting
DESCRIPTION:
URL:https://greenfieldsaukwi.org/event/town-board-meeting-4/2019-09-10/
CATEGORIES:Town Board
END:VEVENT
BEGIN:VEVENT
DTSTART;TZID=America/Chicago:20190813T190000
DTEND;TZID=America/Chicago:20190813T200000
DTSTAMP:20260420T123437
CREATED:20181217T174147Z
LAST-MODIFIED:20181217T174805Z
UID:10000572-1565722800-1565726400@greenfieldsaukwi.org
SUMMARY:Town Board Meeting
DESCRIPTION:
URL:https://greenfieldsaukwi.org/event/town-board-meeting-4/2019-08-13/
CATEGORIES:Town Board
END:VEVENT
BEGIN:VEVENT
DTSTART;TZID=America/Chicago:20190709T190000
DTEND;TZID=America/Chicago:20190709T200000
DTSTAMP:20260420T123437
CREATED:20181217T174147Z
LAST-MODIFIED:20181217T174805Z
UID:10000571-1562698800-1562702400@greenfieldsaukwi.org
SUMMARY:Town Board Meeting
DESCRIPTION:
URL:https://greenfieldsaukwi.org/event/town-board-meeting-4/2019-07-09/
CATEGORIES:Town Board
END:VEVENT
BEGIN:VEVENT
DTSTART;TZID=America/Chicago:20190611T190000
DTEND;TZID=America/Chicago:20190611T200000
DTSTAMP:20260420T123437
CREATED:20181217T174147Z
LAST-MODIFIED:20181217T174805Z
UID:10000570-1560279600-1560283200@greenfieldsaukwi.org
SUMMARY:Town Board Meeting
DESCRIPTION:
URL:https://greenfieldsaukwi.org/event/town-board-meeting-4/2019-06-11/
CATEGORIES:Town Board
END:VEVENT
BEGIN:VEVENT
DTSTART;TZID=America/Chicago:20190514T190000
DTEND;TZID=America/Chicago:20190514T200000
DTSTAMP:20260420T123437
CREATED:20181217T174147Z
LAST-MODIFIED:20181217T174805Z
UID:10000569-1557860400-1557864000@greenfieldsaukwi.org
SUMMARY:Town Board Meeting
DESCRIPTION:
URL:https://greenfieldsaukwi.org/event/town-board-meeting-4/2019-05-14/
CATEGORIES:Town Board
END:VEVENT
BEGIN:VEVENT
DTSTART;TZID=America/Chicago:20190409T190000
DTEND;TZID=America/Chicago:20190409T200000
DTSTAMP:20260420T123437
CREATED:20181217T174147Z
LAST-MODIFIED:20181217T174805Z
UID:10000568-1554836400-1554840000@greenfieldsaukwi.org
SUMMARY:Town Board Meeting
DESCRIPTION:
URL:https://greenfieldsaukwi.org/event/town-board-meeting-4/2019-04-09/
CATEGORIES:Town Board
END:VEVENT
BEGIN:VEVENT
DTSTART;TZID=America/Chicago:20190312T190000
DTEND;TZID=America/Chicago:20190312T200000
DTSTAMP:20260420T123437
CREATED:20181217T174147Z
LAST-MODIFIED:20181217T174805Z
UID:10000567-1552417200-1552420800@greenfieldsaukwi.org
SUMMARY:Town Board Meeting
DESCRIPTION:
URL:https://greenfieldsaukwi.org/event/town-board-meeting-4/2019-03-12/
CATEGORIES:Town Board
END:VEVENT
BEGIN:VEVENT
DTSTART;TZID=America/Chicago:20190212T190000
DTEND;TZID=America/Chicago:20190212T200000
DTSTAMP:20260420T123437
CREATED:20181217T174147Z
LAST-MODIFIED:20181217T174805Z
UID:10000566-1549998000-1550001600@greenfieldsaukwi.org
SUMMARY:Town Board Meeting
DESCRIPTION:
URL:https://greenfieldsaukwi.org/event/town-board-meeting-4/2019-02-12/
CATEGORIES:Town Board
END:VEVENT
BEGIN:VEVENT
DTSTART;TZID=America/Chicago:20190108T190000
DTEND;TZID=America/Chicago:20190108T200000
DTSTAMP:20260420T123437
CREATED:20181217T174147Z
LAST-MODIFIED:20181217T174805Z
UID:10000565-1546974000-1546977600@greenfieldsaukwi.org
SUMMARY:Town Board Meeting
DESCRIPTION:
URL:https://greenfieldsaukwi.org/event/town-board-meeting-4/2019-01-08/
CATEGORIES:Town Board
END:VEVENT
BEGIN:VEVENT
DTSTART;TZID=America/Chicago:20180414T133027
DTEND;TZID=America/Chicago:20180414T143027
DTSTAMP:20260420T123437
CREATED:20180406T141353Z
LAST-MODIFIED:20180406T142339Z
UID:10000557-1523712627-1523716227@greenfieldsaukwi.org
SUMMARY:Annual Meeting of Electors
DESCRIPTION:
URL:https://greenfieldsaukwi.org/event/annual-meeting-of-electors/
CATEGORIES:Town Board
END:VEVENT
BEGIN:VEVENT
DTSTART;TZID=America/Chicago:20180410T190049
DTEND;TZID=America/Chicago:20180410T200049
DTSTAMP:20260420T123437
CREATED:20180406T141111Z
LAST-MODIFIED:20180406T142252Z
UID:10000556-1523386849-1523390449@greenfieldsaukwi.org
SUMMARY:Town Board Meeting
DESCRIPTION:
URL:https://greenfieldsaukwi.org/event/town-board-meeting-3/
CATEGORIES:Town Board
END:VEVENT
BEGIN:VEVENT
DTSTART;TZID=America/Chicago:20160409T133000
DTEND;TZID=America/Chicago:20160409T143000
DTSTAMP:20260420T123437
CREATED:20160409T183000Z
LAST-MODIFIED:20160409T183000Z
UID:10000188-1460208600-1460212200@greenfieldsaukwi.org
SUMMARY:Town of Greenfield Annual Meeting
DESCRIPTION:Greenfield Town Hall
URL:https://greenfieldsaukwi.org/event/town-of-greenfield-annual-meeting/
CATEGORIES:Town Board
END:VEVENT
END:VCALENDAR