BEGIN:VCALENDAR
VERSION:2.0
PRODID:-//Town of Greenfield - ECPv6.15.17.1//NONSGML v1.0//EN
CALSCALE:GREGORIAN
METHOD:PUBLISH
X-WR-CALNAME:Town of Greenfield
X-ORIGINAL-URL:https://greenfieldsaukwi.org
X-WR-CALDESC:Events for Town of Greenfield
REFRESH-INTERVAL;VALUE=DURATION:PT1H
X-Robots-Tag:noindex
X-PUBLISHED-TTL:PT1H
BEGIN:VTIMEZONE
TZID:America/Chicago
BEGIN:DAYLIGHT
TZOFFSETFROM:-0600
TZOFFSETTO:-0500
TZNAME:CDT
DTSTART:20190310T080000
END:DAYLIGHT
BEGIN:STANDARD
TZOFFSETFROM:-0500
TZOFFSETTO:-0600
TZNAME:CST
DTSTART:20191103T070000
END:STANDARD
BEGIN:DAYLIGHT
TZOFFSETFROM:-0600
TZOFFSETTO:-0500
TZNAME:CDT
DTSTART:20200308T080000
END:DAYLIGHT
BEGIN:STANDARD
TZOFFSETFROM:-0500
TZOFFSETTO:-0600
TZNAME:CST
DTSTART:20201101T070000
END:STANDARD
BEGIN:DAYLIGHT
TZOFFSETFROM:-0600
TZOFFSETTO:-0500
TZNAME:CDT
DTSTART:20210314T080000
END:DAYLIGHT
BEGIN:STANDARD
TZOFFSETFROM:-0500
TZOFFSETTO:-0600
TZNAME:CST
DTSTART:20211107T070000
END:STANDARD
END:VTIMEZONE
BEGIN:VEVENT
DTSTART;TZID=America/Chicago:20201201T183000
DTEND;TZID=America/Chicago:20201201T190000
DTSTAMP:20260421T020305
CREATED:20201129T182848Z
LAST-MODIFIED:20201129T182848Z
UID:10000614-1606847400-1606849200@greenfieldsaukwi.org
SUMMARY:December Plan Commission
DESCRIPTION:https://cdn.townweb.com/greenfieldsaukwi.org/wp-content/uploads/2020/11/December-2020-agenda.pdf
URL:https://greenfieldsaukwi.org/event/december-plan-commission/
CATEGORIES:Plan Commission
END:VEVENT
BEGIN:VEVENT
DTSTART;TZID=America/Chicago:20201208T190000
DTEND;TZID=America/Chicago:20201208T200000
DTSTAMP:20260421T020305
CREATED:20181217T174147Z
LAST-MODIFIED:20200803T024143Z
UID:10000588-1607454000-1607457600@greenfieldsaukwi.org
SUMMARY:Town Board Meeting
DESCRIPTION:
URL:https://greenfieldsaukwi.org/event/town-board-meeting-4-2020-12-08/
CATEGORIES:Town Board
END:VEVENT
BEGIN:VEVENT
DTSTART;TZID=America/Chicago:20201210T080000
DTEND;TZID=America/Chicago:20201210T190000
DTSTAMP:20260421T020306
CREATED:20201209T212411Z
LAST-MODIFIED:20201209T212411Z
UID:10000615-1607587200-1607626800@greenfieldsaukwi.org
SUMMARY:December 10 Town Board Meeting
DESCRIPTION:
URL:https://greenfieldsaukwi.org/event/december-10-town-board-meeting/
CATEGORIES:Town Board
END:VEVENT
END:VCALENDAR